Workbook

Sheet Main Page
B17: Maintenance Program LAF Classic
C27: Daily Milk Output Plan
C33: Daily Milk Output Program
A44: version 1.0
A45: 45689

Sheet Maintenance Program
C1: Daily Milk Output Plan
B6: Proposed preventive maintenance program
B7: A | J7: B
B9: Part number | C9: Description | D9: Description of activity to be performed | E9: QTY | F9: Unit Price | G9: Total Cost | H9: Exploded View | J9: Part number | K9: Description | L9: Description of service to be performed | M9: QTY | N9: Unit Price | O9: Single total | P9: Exploded View
B10: 8615504111 | C10: O-ring for Cleaning Adapter | D10: Change | E10: 1 | F10: 0.1 | G10: =E10*F10 -> 0.1 | J10: 8615509102 | K10: Air Vallve 16 bar 2mm | L10: Change | M10: 1 | N10: 99 | O10: =N10*M10 -> 99
B11: 8612900782 | C11: O-ring | D11: Change | E11: 2 | F11: 0.1 | G11: =E11*F11 -> 0.2 | J11: 8615501011 | K11: Check Valve | L11: Change | M11: 1 | N11: 2.9 | O11: =N11*M11 -> 2.9
B12: 8612900324 | C12: O-ring | D12: Change | E12: 2 | F12: 0.1 | G12: =E12*F12 -> 0.2 | J12: 8615502910 | K12: 2 x Angle Fitting with silicon tube for milk container | L12: Check/Change | M12: 1 | N12: 31.8 | O12: =N12*M12 -> 31.8
B13: - | C13: Water filter | D13: Check/Change | E13: 0 | F13: 0 | G13: =E13*F13 -> 0 | J13: 8612901969 | K13: Teflon tube | L13: Check/Change | M13: 1 | N13: 15 | O13: =N13*M13 -> 15
J14: 8615501301 | K14: Flow Through Heater Assemlby | L14: Check/Change | M14: 1 | N14: 129 | O14: =N14*M14 -> 129
J15: 8000000356 | K15: Air Valve 0.8mm | L15: Change | M15: 1 | N15: 99 | O15: =N15*M15 -> 99
G17: =SUM(G10:G16) -> 0.5 | O17: =SUM(O10:O16) -> 376.7
B20: C | J20: D
B22: Part number | C22: Description | D22: Description of service to be performed | E22: Qty | F22: Unit Price | G22: Single total | H22: Exploded View | J22: Part number | K22: Description | L22: Description of service to be performed | M22: Qty | N22: Unit Price | O22: Single total | P22: Exploded View
B23: 8000000229 | C23: Flow Control Unit | D23: Change | E23: 1 | F23: 11.9 | G23: =F23*E23 -> 11.9 | J23: 8612900335 | K23: Milk Pump 40W | L23: Change | M23: 1 | N23: 239.9 | O23: =N23*M23 -> 239.9
B24: 8613009036 | C24: Non Return Valve | D24: Change | E24: 1 | F24: 17.9 | G24: =F24*E24 -> 17.9 | J24: 8612900324 | K24: O-Ring Heater Outlet | L24: Change | M24: 1 | N24: 0.1 | O24: =N24*M24 -> 0.1
B25: 8615509101 | C25: 3-way Drain Valve | D25: Check/Change | E25: 1 | F25: 149 | G25: =F25*E25 -> 149 | J25: 8000000141 | K25: Cleaning Adapter Assembly | L25: Change | M25: 1 | N25: 59.9 | O25: =N25*M25 -> 59.9
B26: 8615507002 | C26: Temperature Sensor for valve block | D26: Check/Change | E26: 2 | F26: 9 | G26: =F26*E26 -> 18 | J26: 8615509104 | K26: Milk Valve 2x2 AB Assembly | L26: Clean/Change | M26: 1 | N26: 99.9 | O26: =N26*M26 -> 99.9
G29: =SUM(G23:G28) -> 196.8 | O29: =SUM(O23:O28) -> 399.8
B32: Part Number | C32: Description
B33: 8600001000 | C33: GSM MODEM | D33: INSTALL | E33: 1 | F33: 299.9

Sheet Measures & Checks
A6: Check & Measure
A8: The following list of measurements and checks must be carried out during a Programmed Maintenance
A10: N. | B10: Description of the activity | C10: Record of the Measurements or Checks | D10: Reference Values and Guidelines
A11: 1 | B11: Record the Total machine milk output
A12: 2 | B12: Check the efficiency of the filtration system | D12: Water Hardness Value must be below ____
A13: 3 | B13: Check the milk temperature | D13: compare with the values set for the beverage
A14: 4 | B14: Water flow check | D14: check with water before milk if there are blockages
A15: 5 | B15: Check the milk flow | D15: It should dispense 600 ml per liter for Classic
A16: 6 | B16: Check the pump performance | D16: It should dispense 600 ml per liter for Classic
A17: 7 | B17: FTH check
A18: 8 | B18: Flow meter check | D18: check the mechanical filter and rinse it
A19: 9 | B19: Valves check | D19: check in the Direct Control of the software
A20: 10 | B20: Air valve | D20: part of the milk flow check with different foam levels
A21: 11 | B21: Temperature probe check | D21: check in the Direct Control of the software
A22: 12 | B22: Hydraulic circuit check | D22: Check possible leakage in the hydraulic circuit
A23: 13 | B23: Machine drain/s check | D23: Make sure the drain is free from any obstructions.
A24: 14 | B24: Electrical circuit check | D24: Check that there are no dispersions towards the earth. Warming: perform the following checks only when the machine is off: check the integrity of the electrical wiring, be sure that all the wires are well plugged into the connectors and/or into the clamps. Check that the earthing is regular and in conformity with the laws in force. Replace all the electrical component with evident signs of burnt.
A25: 15 | B25: Final Milk Quality Check | D25: After all the above checks make sure that the quality of the milk (latte art, solid, hot, cold) delivered from the machine meets customer's requirements.
A26: 16 | B26: Check and verify the latest software version | D26: Update if necessary

Sheet Cleaning Caluculator
C1: Daily Cleaning Calculator
C3: Daily Milk Output | D3: <50l per day
C4: Days weekly | D4: 7
C5: Tablets used | D5: =VLOOKUP(D3,'Calculator Database'!$A:$C,2,0) -> 2
C6: Cost per clean | D6: =E13 -> 0.83
C7: Weekly cleaning cost | D7: =D6*D4 -> 5.81
C8: Yearly cleaning cost | D8: =D7*52 -> 302.12
B11: Cleaning Tablets cost | D11: A + B | E11: 49.8
B12: 60 tablets each for A + B
B13: Cost per clean | E13: =E11/60 -> 0.83
A59: Daily output | B59: Daily requirement | C59: Tab cost
A60: <50l per day | B60: 1 | C60: 0.17
A61: >50l per day | B61: 2

Sheet Daily Cleaning

Sheet Service Plan 20-30l
A2: SERVICE PLAN 20-30l
C4: Maximum time recommended between every operation | D4: Perform checks or measures as required | E4: Estimated Labour (Minutes) | G4: Preventive Maintenance Cost per Year | H4: N° of maintenance visits per year | I4: Cost of parts | J4: Labour cost
A6: Check visit and fine tunning | C6: Within 2 weeks after installation | D6: Checks | E6: 20' | F6: 15 | G6: Free of charge | H6: 1 | I6: / | J6: /
A8: 1st year of Maintenance | C8: after 6 months | D8: Measurements and Checks | E8: 60 | F8: 110 | G8: =J8+I8 -> 121 | H8: 2 | I8: ='Maintenance Program'!G17*2 -> 1 | J8: =L28*2 -> 120
C9: after12 months | E9: 60
A11: 2nd year of Maintenance | C11: after 18 months | D11: Measurements and Checks | E11: 60 | F11: 170 | G11: =I11+J11 -> 527.7 | H11: 2 | I11: ='Maintenance Program'!G17+'Maintenance Program'!G17+'Maintenance Program'!O17 -> 377.7 | J11: =L28*2.5 -> 150
C12: after 24 months | E12: 90
A14: 3rd year of Maintenance | C14: after 30 months | D14: Measurements and Checks | E14: 60 | F14: 150 | G14: =I14+J14 -> 377.8 | H14: 2 | I14: ='Maintenance Program'!G17+'Maintenance Program'!G17+'Maintenance Program'!G29 -> 197.8 | J14: =L28*3 -> 180
C15: after 36 months | E15: 120
A17: 4th year of Maintenance | C17: after 42 months | D17: Measurements and Checks | E17: 60 | F17: 170 | G17: =J17+I17 -> 580.8 | H17: 2 | I17: ='Maintenance Program'!G17+'Maintenance Program'!G17+'Maintenance Program'!O29 -> 400.8 | J17: =L28*3 -> 180
C18: after 48 months | E18: 120
A20: 5th year of Maintenance | D20: Measurements and Checks | E20: 60 | G20: =I20+J20 -> 1333.2 | H20: 2 | I20: ='Maintenance Program'!O17+'Maintenance Program'!O17+'Maintenance Program'!O29 -> 1153.2 | J20: =L28*3 -> 180
C21: after 54 months | E21: 120
A22: General device overhaul if necessary
C23: At the end of the 5th year of operation | D23: Measurements and Checks | E23: 360 | F23: 1100 | G23: 0
I28: Labour cost per hour: | K28: 60 | L28: 60
K29: 50
I30: Travel cost not included

Sheet Program 20-30l
B3: FIRST YEAR | E3: SECOND YEAR | G3: THIRD YEAR | I3: FOURTH YEAR | K3: FIFTH YEAR
B4: 10/15 Days | C4: 6 | D4: 12 | E4: 18 | F4: 24 | G4: 30 | H4: 36 | I4: 42 | J4: 48 | K4: 54
B5: Check & Measure | C5: Check & Measure | D5: Check & Measure | E5: Check & Measure | F5: Check & Measure | G5: Check & Measure | H5: Check & Measure | I5: Check & Measure | J5: Check & Measure | K5: Check & Measure | L5: At the end of fifth year GENERAL REVISION if Required
C6: A | D6: A | E6: A | F6: A | G6: A | H6: A | I6: A | K6: A
F7: B | J7: B
H8: C
K9: D
A12: 6 months mainenance | B12: Replacement of the components listed in table A.
A14: 24 month maintenance | B14: Replacement of the components listed in table B.
A16: 36 month maintenance | B16: Replacement of the components listed in table C.
A18: 60 month maintenance | B18: Replacement of the components listed in table D.
A20: General checking | B20: Report the data referred to the usage of the device
B21: Control of all function of the most important components of the device: pump, valves, heating element, flowmeter, good sealing of lines and connections, electric connections.
B22: Control of the main components
B23: Deep Clean: cleaning if necessary
B24: Setting controls: Make sure that all the set parameters relevant to each selection are still correct, control of the various set data of the display function.
B25: Control of water hardness and water treatment good operation.
A27: Rules
A28: Labor cost is considered during normal businnes hours, Monday to Friday | B28: hour - Maximum Rate | E28: 60
A29: Extra charge (if agreed)
A30: after normal businnes hours: | B30: 0.5
A31: Saturdays: | B31: 0.5
A32: Sundays and Holidays: | B32: 1

Sheet Service Plan 30-50l
A2: SERVICE PLAN 30-50l
C4: Maximum time recommended between every operation | D4: Perform checks or measures as required | E4: Estimated Labour (Minutes) | G4: Preventive Maintenance Cost per Year | H4: N° of maintenance visits per year | I4: Cost of parts | J4: Labour cost
A6: Check visit and fine tunning | C6: Within 2 weeks after installation | D6: Checks | E6: 20' | F6: 15 | G6: Free of charge | H6: 1 | I6: / | J6: /
A8: 1st year of Maintenance | C8: after 6 months | D8: Measurements and Checks | E8: 60 | F8: 110 | G8: =J8+I8 -> 121 | H8: 2 | I8: ='Maintenance Program'!G17*2 -> 1 | J8: =L28*2 -> 120
C9: after12 months | E9: 60
A11: 2nd year of Maintenance | C11: after 18 months | D11: Measurements and Checks | E11: 60 | F11: 170 | G11: =I11+J11 -> 527.7 | H11: 2 | I11: ='Maintenance Program'!G17+'Maintenance Program'!G17+'Maintenance Program'!O17 -> 377.7 | J11: =L28*2.5 -> 150
C12: after 24 months | E12: 90
A14: 3rd year of Maintenance | C14: after 30 months | D14: Measurements and Checks | E14: 60 | F14: 150 | G14: =I14+J14 -> 377.8 | H14: 2 | I14: ='Maintenance Program'!G17+'Maintenance Program'!G17+'Maintenance Program'!G29 -> 197.8 | J14: =L28*3 -> 180
C15: after 36 months | E15: 120
A17: 4th year of Maintenance | C17: after 42 months | D17: Measurements and Checks | E17: 60 | F17: 170 | G17: =J17+I17 -> 580.8 | H17: 2 | I17: ='Maintenance Program'!G17+'Maintenance Program'!G17+'Maintenance Program'!O29 -> 400.8 | J17: =L28*3 -> 180
C18: after 48 months | E18: 120
A20: 5th year of Maintenance | D20: Measurements and Checks | E20: 60 | G20: =I20+J20 -> 1333.2 | H20: 2 | I20: ='Maintenance Program'!O17+'Maintenance Program'!O17+'Maintenance Program'!O29 -> 1153.2 | J20: =L28*3 -> 180
C21: after 54 months | E21: 120
A22: General device overhaul if necessary
C23: At the end of the 5th year | D23: Measurements and Checks | E23: 360 | F23: 1100 | G23: 0
I28: Labour cost per hour: | K28: 60 | L28: 60
K29: 50
I30: Travel cost not included

Sheet Program 30-50l 
B3: FIRST YEAR | E3: SECOND YEAR | G3: THIRD YEAR | I3: FOURTH YEAR | K3: FIFTH YEAR
B4: 10/15 Days | C4: 6 | D4: 12 | E4: 18 | F4: 24 | G4: 30 | H4: 36 | I4: 42 | J4: 48 | K4: 54
B5: Check & Measure | C5: Check & Measure | D5: Check & Measure | E5: Check & Measure | F5: Check & Measure | G5: Check & Measure | H5: Check & Measure | I5: Check & Measure | J5: Check & Measure | K5: Check & Measure | L5: At the end of fifth year GENERAL REVISION if Required
C6: A | D6: A | E6: A | F6: A | G6: A | H6: A | I6: A | K6: A
F7: B | J7: B
H8: C
K9: D
A12: 6 months mainenance | B12: Replacement of the components listed in table A.
A14: 24 month maintenance | B14: Replacement of the components listed in table B.
A16: 36 month maintenance | B16: Replacement of the components listed in table C.
A18: 60 month maintenance | B18: Replacement of the components listed in table D.
A20: General checking | B20: Report the data referred to the usage of the device
B21: Control of all function of the most important components of the device: pump, valves, heating element, flowmeter, good sealing of lines and connections, electric connections.
B22: Control of the main components
B23: Deep Clean: cleaning if necessary
B24: Setting controls: Make sure that all the set parameters relevant to each selection are still correct, control of the various set data of the display function.
B25: Control of water hardness and water treatment good operation.
A27: Rules
A28: Labor cost is considered during normal businnes hours, Monday to Friday | B28: hour - Maximum Rate | E28: 60
A29: Extra charge (if agreed)
A30: after normal businnes hours: | B30: 0.5
A31: Saturdays: | B31: 0.5
A32: Sundays and Holidays: | B32: 1

Sheet Service Plan 100l
A2: SERVICE PLAN 100l
C4: Maximum time recommended between every operation | D4: Perform checks or measures as required | E4: Estimated Labour (Minutes) | G4: Preventive Maintenance Cost per Year | H4: N° of maintenance visits per year | I4: Cost of parts | J4: Labour cost
A6: Check visit and fine tunning | C6: Within 2 weeks after installation | D6: Checks | E6: 20' | F6: 15 | G6: Free of charge | H6: 1 | I6: / | J6: /
A8: 1st year of Maintenance | C8: after 6 months | D8: Measurements and Checks | E8: 60 | F8: 110 | G8: =J8+I8 -> 527.7 | H8: 2 | I8: ='Maintenance Program'!G17+'Maintenance Program'!G17+'Maintenance Program'!O17 -> 377.7 | J8: =L28*2.5 -> 150
C9: after12 months | E9: 90
A11: 2nd year of Maintenance | C11: after 18 months | D11: Measurements and Checks | E11: 60 | F11: 170 | G11: =I11+J11 -> 724.5 | H11: 2 | I11: ='Maintenance Program'!G17+'Maintenance Program'!G17+'Maintenance Program'!O17+'Maintenance Program'!G29 -> 574.5 | J11: =L28*2.5 -> 150
C12: after 24 months | E12: 90
A14: 3rd year of Maintenance | C14: after 30 months | D14: Measurements and Checks | E14: 60 | F14: 150 | G14: =I14+J14 -> 957.5 | H14: 2 | I14: ='Maintenance Program'!G17+'Maintenance Program'!G17+'Maintenance Program'!O17+'Maintenance Program'!O29 -> 777.5 | J14: =L28*3 -> 180
C15: after 36 months | E15: 120
A17: 4th year of Maintenance | C17: after 42 months | D17: Measurements and Checks | E17: 60 | F17: 170 | G17: =J17+I17 -> 724.5 | H17: 2 | I17: ='Maintenance Program'!G17+'Maintenance Program'!G17+'Maintenance Program'!O17+'Maintenance Program'!G29 -> 574.5 | J17: =L28*2.5 -> 150
C18: after 48 months | E18: 90
A20: 5th year of Maintenance | D20: Measurements and Checks | E20: 60 | G20: =I20+J20 -> 754 | H20: 2 | I20: ='Maintenance Program'!G17+'Maintenance Program'!O17+'Maintenance Program'!G29 -> 574 | J20: =L28*3 -> 180
C21: after 54 months | E21: 120
A22: General device overhaul if necessary
C23: At the end of the 5th year | D23: Measurements and Checks | E23: 360 | F23: 1100 | G23: 0
I28: Labour cost per hour: | K28: 60 | L28: 60
K29: 50
I30: Travel cost not included

Sheet Program 100l
B3: FIRST YEAR | E3: SECOND YEAR | G3: THIRD YEAR | I3: FOURTH YEAR | K3: FIFTH YEAR
B4: 10/15 Days | C4: 6 | D4: 12 | E4: 18 | F4: 24 | G4: 30 | H4: 36 | I4: 42 | J4: 48 | K4: 54
B5: Check & Measure | C5: Check & Measure | D5: Check & Measure | E5: Check & Measure | F5: Check & Measure | G5: Check & Measure | H5: Check & Measure | I5: Check & Measure | J5: Check & Measure | K5: Check & Measure | L5: At the end of fifth year GENERAL REVISION if Required
C6: A | D6: A | E6: A | F6: A | G6: A | H6: A | I6: A | J6: A | K6: A
D7: B | F7: B | H7: B | J7: B | K7: B
F8: C | J8: C
H9: D | K9: D
A12: 6 months mainenance | B12: Replacement of the components listed in table A.
A14: 24 month maintenance | B14: Replacement of the components listed in table B.
A16: 36 month maintenance | B16: Replacement of the components listed in table C.
A18: 60 month maintenance | B18: Replacement of the components listed in table D.
A20: General checking | B20: Report the data referred to the usage of the device
B21: Control of all function of the most important components of the device: pump, valves, heating element, flowmeter, good sealing of lines and connections, electric connections.
B22: Control of the main components
B23: Deep Clean: cleaning if necessary
B24: Setting controls: Make sure that all the set parameters relevant to each selection are still correct, control of the various set data of the display function.
B25: Control of water hardness and water treatment good operation.
A27: Rules
A28: Labor cost is considered during normal businnes hours, Monday to Friday | B28: hour - Maximum Rate | E28: 60
A29: Extra charge (if agreed)
A30: after normal businnes hours: | B30: 0.5
A31: Saturdays: | B31: 0.5
A32: Sundays and Holidays: | B32: 1

Sheet Accessories

Sheet Accessories_2

Sheet Maintenance_&_Repair

Sheet Maintenance_&_Repair_2

Sheet Maintenance_&_Repair_3

Sheet Maintenance_&_Repair_4

Sheet Maintenance_&_Repair_Pro

Sheet Maintenance_&_Repair_Package

Sheet Calculator Database
A1: Daily calculation | B1: Tablets needed
A2: <50l per day | B2: 2
A3: >50l per day | B3: 4
A4: make 5 per week in both scenarios
A5: make 7 days per week in both scenarios
A6: 2 tablets
A8: currently 20 for 120 tabs
